BEGIN:VCALENDAR
VERSION:2.0
PRODID:-//Om Yoga Works - ECPv5.14.1//NONSGML v1.0//EN
CALSCALE:GREGORIAN
METHOD:PUBLISH
X-WR-CALNAME:Om Yoga Works
X-ORIGINAL-URL:https://omyogaworks.co.uk
X-WR-CALDESC:Events for Om Yoga Works
REFRESH-INTERVAL;VALUE=DURATION:PT1H
X-Robots-Tag:noindex
X-PUBLISHED-TTL:PT1H
BEGIN:VTIMEZONE
TZID:Europe/London
BEGIN:DAYLIGHT
TZOFFSETFROM:+0000
TZOFFSETTO:+0100
TZNAME:BST
DTSTART:20260329T010000
END:DAYLIGHT
BEGIN:STANDARD
TZOFFSETFROM:+0100
TZOFFSETTO:+0000
TZNAME:GMT
DTSTART:20261025T010000
END:STANDARD
END:VTIMEZONE
BEGIN:VEVENT
DTSTART;TZID=Europe/London:20260906T140000
DTEND;TZID=Europe/London:20260906T163000
DTSTAMP:20260422T110350
CREATED:20251223T185636Z
LAST-MODIFIED:20251223T185636Z
UID:72811-1788703200-1788712200@omyogaworks.co.uk
SUMMARY:Monthly Soul Circle with Jade Langridge
DESCRIPTION:Community\, healing and psychic development — for awakening souls\, at every stage of their journey. \n About this event \nThe journey of healing and awakening is beautiful and expansive\, but it can also feel lonely\, overwhelming\, and exhausting. Soul Circle is here to remind you — you don’t have to walk it alone. \nSoul Circle is for you if… \n You are an awakening soul—whether you’re just starting to follow the breadcrumbs or are deep in a “Dark Night of the Soul”. \n You are a healer\, Starseed or lightworker—feeling drained from holding space for everyone else and longing for your own nourishment and support.  You feel isolated—tired of “toning down” your experiences and ready to share with a community that understands the “weird and woo-woo.” \n You are a curious seeker—wanting to explore psychic development and spirit guides in a way that feels safe\, therapeutic\, and real. \nWhatever stage of the journey you are at\, Soul Circle was created to meet you there. \n What to Expect \nIn this 2.5 hour gathering\, you’ll experience a blend of: \n Sharing circle – a safe\, supportive space to reflect\, be heard and share about the highs and lows of your journey. \n Guided channelled journey + energy transmission – Each month I’ll tune into the energy / Spirit for a guided inner journey\, infused with Reiki + Light Language \n Psychic development practice – fun\, practical exercises to strengthen your intuition and gifts \n Community connection – meet like-minded souls who “get it” and leave feeling encouraged\, inspired\, and supported. \nEach circle has its own flavour. Always guided by Spirit\, always with love. \nExamples of some topics are; Spirit guides\, Starseeds\, Dark night of the soul\, Grounding and energetic protection\, Navigating Spiritual Growth. \nYou’ll Leave Feeling… \n\nSeen\, heard\, and validated on your path\nRecharged with fresh energy\nMore confident in your intuition and gifts\nConnected to a soulful community\n\n Come as you are. Leave with your spirit uplifted\, your heart lighter\, and your energy recharged.
URL:https://omyogaworks.co.uk/event/monthly-soul-circle-with-jade-langridge/2026-09-06/
LOCATION:Studio\, United Kingdom
CATEGORIES:Workshops
ATTACH;FMTTYPE=image/png:https://omyogaworks.co.uk/wp-content/uploads/2025/12/Soul-Circle-Image-1-1.png
GEO:55.378051;-3.435973
END:VEVENT
BEGIN:VEVENT
DTSTART;TZID=Europe/London:20260920T150000
DTEND;TZID=Europe/London:20260920T170000
DTSTAMP:20260422T110350
CREATED:20160504T145253Z
LAST-MODIFIED:20260413T123926Z
UID:72758-1789916400-1789923600@omyogaworks.co.uk
SUMMARY:Om Community Kirtan
DESCRIPTION:Yoga for the Voice & the Heart\nKirtan is call and response chanting of mantras\n“Kirtan is for all people. There are no masters of kirtan\, no experts\, no teachers\, no advanced students\, no beginners. The practice itself is the teacher\, guiding us to ourselves. Kirtan teaches itself by allowing us to enter into a mystery world — a world where all the logic of our minds\, all the conditioning and learning are left outside — and we allow ourselves to expand into the mystery.”  Jai Uttal \nIt creates a meditative & uplifted state of mind helping you to open your heart & chant with joy. We chant songs from different nationalities & may invite you to dance & shake or bang an instrument. Musical ability is not required just an open heart & mind. \nAt Om Community Kirtan we sit in circle and all are welcome to ‘lead’ a chant/song. There’s also no pressure to do so. There is no right or wrong way to sing kirtan. Kirtan can be breathtakingly beautiful\, the music can be stunning and masterful; and it can be cacophonous\, dissonant\, and almost painful to the ears. Aesthetics don’t matter. All that matters is the spirit\, the feeling. Don’t worry about what you sound like\, feel whatever you feel\, have no expectations\, no inhibitions. Kirtan is an oil well digging deeper and deeper into the heart. A power tool of love and longing. A train carrying us home. Make these kirtans your own prayers and use their power to set fire to your own soul. We sing together and each person has a totally unique\, individual experience. Yet by singing together we give strength\, safety and passion to each other\, and give ourselves permission to sing and dance freely\, releasing and expressing through our voices and bodies\, the emotions tightly locked in our hearts.
URL:https://omyogaworks.co.uk/event/om-kirtan-2/2026-09-20/
LOCATION:Studio\, United Kingdom
CATEGORIES:Workshops
ATTACH;FMTTYPE=image/jpeg:https://omyogaworks.co.uk/wp-content/uploads/2016/05/Om-Yoga-240-1600crop.jpg
ORGANIZER;CN="Angela%20Ripley":MAILTO:anji@omyogaworks.co.uk
GEO:55.378051;-3.435973
END:VEVENT
END:VCALENDAR