BEGIN:VCALENDAR
VERSION:2.0
PRODID:-//Om Yoga Works - ECPv5.14.1//NONSGML v1.0//EN
CALSCALE:GREGORIAN
METHOD:PUBLISH
X-WR-CALNAME:Om Yoga Works
X-ORIGINAL-URL:https://omyogaworks.co.uk
X-WR-CALDESC:Events for Om Yoga Works
REFRESH-INTERVAL;VALUE=DURATION:PT1H
X-Robots-Tag:noindex
X-PUBLISHED-TTL:PT1H
BEGIN:VTIMEZONE
TZID:Europe/London
BEGIN:DAYLIGHT
TZOFFSETFROM:+0000
TZOFFSETTO:+0100
TZNAME:BST
DTSTART:20250330T010000
END:DAYLIGHT
BEGIN:STANDARD
TZOFFSETFROM:+0100
TZOFFSETTO:+0000
TZNAME:GMT
DTSTART:20251026T010000
END:STANDARD
END:VTIMEZONE
BEGIN:VEVENT
DTSTART;TZID=Europe/London:20250718T103000
DTEND;TZID=Europe/London:20250718T120000
DTSTAMP:20260421T134206
CREATED:20170111T114643Z
LAST-MODIFIED:20260325T172041Z
UID:67772-1752834600-1752840000@omyogaworks.co.uk
SUMMARY:Hatha Yoga - Fri am Angela
DESCRIPTION:Angela’s classes always begin with a little lie down. Time is offered for you to let go of the busyness of the day.  Time is given so that the body may soften and the mind gently quieten. This time is also for the theme of the class to be introduced\, so you may wonder and question.\nAngela passionately believes that as much as yoga is a tool which helps us to know our bodies better\, it is also a tool to help us understand our mind\, our responses to life and yoga teaches us to live with awareness. \nAngela will skillfully guide you through practices to help you maintain and improve physical movement and function\, as well as teach you breathing practices alongside other ancient esoteric practices. Classes end with relaxation\, mainly Yoga Nidra (a relaxation technique which consists of sankalpa\, body awareness rotation\, breath awareness and visualisation). \nAngela’s classes are suitable for all levels of practitioner and every body as modifications will be given so that you can practice safely and effectively. \nBooking essential. \n  \n 
URL:https://omyogaworks.co.uk/event/hatha-yoga-daytime-anji-2/
LOCATION:Studio\, United Kingdom
CATEGORIES:Classes
ATTACH;FMTTYPE=image/jpeg:https://omyogaworks.co.uk/wp-content/uploads/2016/05/hatha-yoga-leeds-angela-daytime.jpg
ORGANIZER;CN="Angela%20Ripley":MAILTO:anji@omyogaworks.co.uk
GEO:55.378051;-3.435973
END:VEVENT
END:VCALENDAR