BEGIN:VCALENDAR
VERSION:2.0
PRODID:-//Om Yoga Works - ECPv5.14.1//NONSGML v1.0//EN
CALSCALE:GREGORIAN
METHOD:PUBLISH
X-WR-CALNAME:Om Yoga Works
X-ORIGINAL-URL:https://omyogaworks.co.uk
X-WR-CALDESC:Events for Om Yoga Works
REFRESH-INTERVAL;VALUE=DURATION:PT1H
X-Robots-Tag:noindex
X-PUBLISHED-TTL:PT1H
BEGIN:VTIMEZONE
TZID:Europe/London
BEGIN:DAYLIGHT
TZOFFSETFROM:+0000
TZOFFSETTO:+0100
TZNAME:BST
DTSTART:20250330T010000
END:DAYLIGHT
BEGIN:STANDARD
TZOFFSETFROM:+0100
TZOFFSETTO:+0000
TZNAME:GMT
DTSTART:20251026T010000
END:STANDARD
END:VTIMEZONE
BEGIN:VEVENT
DTSTART;TZID=Europe/London:20250511T100000
DTEND;TZID=Europe/London:20250511T160000
DTSTAMP:20260421T121107
CREATED:20240920T093927Z
LAST-MODIFIED:20250302T122036Z
UID:66113-1746957600-1746979200@omyogaworks.co.uk
SUMMARY:YoGolf
DESCRIPTION:YoGolf\nLove yoga? Love or want to try Golf ?\nBook a YOGOLF experience\nYOGOLF is a unique experience that combines golf coaching with yoga to help you get the most out of your body\, mind and the game of golf.\nThe fun and friendly sessions are ideal for anyone looking to elevate their performance on the golf course and also perfect for people\, who are new to golf and/or yoga\, wishing to try a new experience in a relaxed environment.\nYou can book a YOGOLF day for yourself\, a group of friends\, work colleagues or for a company team-building activity.\nAvailable dates for 2025:  May 11\, July 6\, September 7\, November 2.\nYOGOLF days run from 10.30am til 4pm and cost £80/person. \nThe price includes all equipment for participants as well as lunch. Maximum 10 participants per day.\nYOGOLF days are passionately brought to you by professional golf coach Jason Ripley\, and his wife Anji\, an experienced yoga teacher and novice golfer.\nPrivate hire: YOGOLF is also available for private group bookings on Thursdays and Fridays.\nFor bookings/more information contact: Anji on 07786 255 211\, \nemail anji@omyogaworks.co.uk or Jason on 07515 353514\, golf.jasonripley@icloud.com \n 
URL:https://omyogaworks.co.uk/event/yogolf/
LOCATION:Rother Valley Golf Centre
CATEGORIES:Workshops
ATTACH;FMTTYPE=image/jpeg:https://omyogaworks.co.uk/wp-content/uploads/2024/09/ball-and-flag.jpg
ORGANIZER;CN="Angela%20Ripley":MAILTO:anji@omyogaworks.co.uk
END:VEVENT
END:VCALENDAR