BEGIN:VCALENDAR
VERSION:2.0
PRODID:-//Om Yoga Works - ECPv5.14.1//NONSGML v1.0//EN
CALSCALE:GREGORIAN
METHOD:PUBLISH
X-WR-CALNAME:Om Yoga Works
X-ORIGINAL-URL:https://omyogaworks.co.uk
X-WR-CALDESC:Events for Om Yoga Works
REFRESH-INTERVAL;VALUE=DURATION:PT1H
X-Robots-Tag:noindex
X-PUBLISHED-TTL:PT1H
BEGIN:VTIMEZONE
TZID:Europe/London
BEGIN:DAYLIGHT
TZOFFSETFROM:+0000
TZOFFSETTO:+0100
TZNAME:BST
DTSTART:20260329T010000
END:DAYLIGHT
BEGIN:STANDARD
TZOFFSETFROM:+0100
TZOFFSETTO:+0000
TZNAME:GMT
DTSTART:20261025T010000
END:STANDARD
END:VTIMEZONE
BEGIN:VEVENT
DTSTART;TZID=Europe/London:20260425T093000
DTEND;TZID=Europe/London:20260425T160000
DTSTAMP:20260420T013459
CREATED:20251211T100901Z
LAST-MODIFIED:20251211T100901Z
UID:70329-1777109400-1777132800@omyogaworks.co.uk
SUMMARY:First Aid training for Yoga Teachers/ Student Teachers
DESCRIPTION:This is the 4th Year that Stephen Smith has run this first aid course at Om on behalf of the British Wheel of Yoga. \nThe course is aimed specifically at yoga teachers\, therefore all the information is relevant. \nThis is not a generic\, first aid course. \nAs a yoga teacher it will be the most useful one you do. \nThe day is open to all yoga teachers and student teachers alike. You do not need to be British Wheel registered to attend \nBWY considers it best practice that all BWY teachers and student teachers hold a current Emergency First Aid at Work (EFAW) certificate and update this every three years. This applies for yoga taught online\, in-person\, live and recorded on any platform. \nFirst aid is a practical and active subject\, and it is recommended that sensible clothing is worn. \nPlease also ensure that no lipstick/lip gloss is worn during the CPR sessions as these products can stain the manikins and make cleaning them between participants difficult. \nIt is essential that you bring with you photo identification\, this is required for your certification on the day.
URL:https://omyogaworks.co.uk/event/first-aid-for-yoga-teachers-and-student-teachers/
LOCATION:Studio\, United Kingdom
CATEGORIES:Workshops
ATTACH;FMTTYPE=image/jpeg:https://omyogaworks.co.uk/wp-content/uploads/2024/04/Screen-Shot-2024-04-26-at-17.32.25.jpg
GEO:55.378051;-3.435973
END:VEVENT
END:VCALENDAR