BEGIN:VCALENDAR
VERSION:2.0
PRODID:-//Om Yoga Works - ECPv5.14.1//NONSGML v1.0//EN
CALSCALE:GREGORIAN
METHOD:PUBLISH
X-WR-CALNAME:Om Yoga Works
X-ORIGINAL-URL:https://omyogaworks.co.uk
X-WR-CALDESC:Events for Om Yoga Works
REFRESH-INTERVAL;VALUE=DURATION:PT1H
X-Robots-Tag:noindex
X-PUBLISHED-TTL:PT1H
BEGIN:VTIMEZONE
TZID:Europe/London
BEGIN:DAYLIGHT
TZOFFSETFROM:+0000
TZOFFSETTO:+0100
TZNAME:BST
DTSTART:20260329T010000
END:DAYLIGHT
BEGIN:STANDARD
TZOFFSETFROM:+0100
TZOFFSETTO:+0000
TZNAME:GMT
DTSTART:20261025T010000
END:STANDARD
END:VTIMEZONE
BEGIN:VEVENT
DTSTART;TZID=Europe/London:20260409T180000
DTEND;TZID=Europe/London:20260409T192000
DTSTAMP:20260420T013458
CREATED:20251112T174109Z
LAST-MODIFIED:20251112T174109Z
UID:72514-1775757600-1775762400@omyogaworks.co.uk
SUMMARY:Beginners Yoga Class - Thurs Eve- Melissa
DESCRIPTION:Working as a counsellor/ psychotherapist\, I have a deep interest in the connection between the mind and body. \nMy approach to yoga is rooted in the understanding that emotional well-being and physical balance are deeply intertwined. \nThrough mindful movement\, breathwork\, and stillness\, I support my students to reconnect with their bodies\, regulate their nervous system\, and cultivate a sense of inner calm. \nIn my classes\, I focus on creating a welcoming\, accessible space where every student\, no matter their level\, can explore movement with awareness and kindness. \nExpect gentle guidance\, mindful alignment\, and a steady rhythm that helps you feel grounded and present both on and off the mat. \nFor further class information please feel welcome to contact Melissa \nT;   07800 919 936 \nE;   melissajchadwick@gmail.com
URL:https://omyogaworks.co.uk/event/beginners-yoga-class/2026-04-09/
LOCATION:Studio\, United Kingdom
CATEGORIES:Classes
ATTACH;FMTTYPE=image/jpeg:https://omyogaworks.co.uk/wp-content/uploads/2016/05/Om-Yoga-32.jpg
ORGANIZER;CN="Melissa%20Chadwick":MAILTO:melissajchadwick@gmail.com
GEO:55.378051;-3.435973
END:VEVENT
END:VCALENDAR