BEGIN:VCALENDAR
VERSION:2.0
PRODID:-//Om Yoga Works - ECPv5.14.1//NONSGML v1.0//EN
CALSCALE:GREGORIAN
METHOD:PUBLISH
X-WR-CALNAME:Om Yoga Works
X-ORIGINAL-URL:https://omyogaworks.co.uk
X-WR-CALDESC:Events for Om Yoga Works
REFRESH-INTERVAL;VALUE=DURATION:PT1H
X-Robots-Tag:noindex
X-PUBLISHED-TTL:PT1H
BEGIN:VTIMEZONE
TZID:Europe/London
BEGIN:DAYLIGHT
TZOFFSETFROM:+0000
TZOFFSETTO:+0100
TZNAME:BST
DTSTART:20260329T010000
END:DAYLIGHT
BEGIN:STANDARD
TZOFFSETFROM:+0100
TZOFFSETTO:+0000
TZNAME:GMT
DTSTART:20261025T010000
END:STANDARD
END:VTIMEZONE
BEGIN:VEVENT
DTSTART;TZID=Europe/London:20260331T110000
DTEND;TZID=Europe/London:20260331T120000
DTSTAMP:20260420T013355
CREATED:20221015T125725Z
LAST-MODIFIED:20260325T162012Z
UID:72189-1774954800-1774958400@omyogaworks.co.uk
SUMMARY:Community Chair Yoga-Lindsey
DESCRIPTION:Tuesday Morning Chair Yoga – Everybody is welcome.\nCome along and join our chair yoga class with Lindsey on Tuesdays. \nThere will be invitations during the class to stand and use the chair to support yoga poses and movement as individual students feel is appropriate for them. The class can however be completed as chair based movement and modifications will always be given. Traditional yoga practices will be taught in stages and students are encouraged to listen deeply to what they need taking the support and modifications needed moment to moment to feel safe. There’ll be use of techniques for breathing and body awareness whilst mindfully building strength\, range of movement and offering opportunities to explore balance and posture. A chair is a useful tool and can help you access the movement and yoga postures with more ease. \nYoga is a way to practice being gentle\, balanced and giving\, nourishing mind and body. A regular Yoga practice is proven to be beneficial for health & wellbeing\, physically & mentally . \nPlease feel free to contact Lindsey for more information about the class. \nEmail Lindsey at  WildWoodMovement@gmail.com \nor message/call on 07802 679 067 \n  \n 
URL:https://omyogaworks.co.uk/event/tuesday-morning-chair-yoga/2026-03-31/
LOCATION:Studio\, United Kingdom
CATEGORIES:Classes
ATTACH;FMTTYPE=image/jpeg:https://omyogaworks.co.uk/wp-content/uploads/2022/10/term-time-chair-2-scaled.jpg
GEO:55.378051;-3.435973
END:VEVENT
BEGIN:VEVENT
DTSTART;TZID=Europe/London:20260331T123000
DTEND;TZID=Europe/London:20260331T134500
DTSTAMP:20260420T013355
CREATED:20210908T104251Z
LAST-MODIFIED:20260414T124917Z
UID:71374-1774960200-1774964700@omyogaworks.co.uk
SUMMARY:Community Yoga Class- Lindsey
DESCRIPTION:Community Yoga Class\nCome along to our Subsidised Community Yoga Class at Om with Lindsey on Tuesdays . \nThis class is subsidised by Oms Foundation to make yoga more accessible for people who would find it a challenge to pay for a full price class. \nFurther concessions are available if needed. \nThis 75 minute class is suitable for all abilities\, ages and levels of yoga experience. Students will be gently guided through a mindful yoga /movement practice that includes time for relaxation and breath awarenss. The class encourages and supports students to progress at their own pace and take alternatives to suit their own needs. \nYoga’s benefit for our emotional\, mental and physical health and well-being are proven and this class provides a safe space and opportunity to explore them. Regular participation in a yoga class enables us to explore its various techniques and can support us to adjust to and manage the many changes in our lives. Many participants find that yoga can be a great complement to managing physical\, mental and emotional health issues alongside regular treatment from their G.P / qualified health professional. Often\, people find yoga beneficial for helping to manage chronic pain\, stress\, anxiety/depression\, fatigue/overwhelm\, sleep difficulties etc as well as helping to improve self-esteem\, confidence and reduce feelings of isolation. If you have health issues please check with your G.P and discuss with Carol before attending a class to ensure it is safe for you to practice yoga. \nPlease wear comfortable clothing for the class e.g. leggings and a t-shirt/\, tracksuit bottoms etc. It doesn’t have to be anything fancy! \nPlease feel free to drop Lindsey an email or message her. \n  \n  \n  \n 
URL:https://omyogaworks.co.uk/event/free-community-yoga-class/2026-03-31/
LOCATION:Studio\, United Kingdom
CATEGORIES:Classes
ATTACH;FMTTYPE=image/jpeg:https://omyogaworks.co.uk/wp-content/uploads/2021/09/twist-together.jpg
GEO:55.378051;-3.435973
END:VEVENT
BEGIN:VEVENT
DTSTART;TZID=Europe/London:20260331T180000
DTEND;TZID=Europe/London:20260331T192500
DTSTAMP:20260420T013355
CREATED:20260321T121613Z
LAST-MODIFIED:20260325T163328Z
UID:72213-1774980000-1774985100@omyogaworks.co.uk
SUMMARY:Hatha Yoga - Tues Eve Angela
DESCRIPTION:Angela’s classes always begin with a little lie down. Time is offered for you to let go of the busyness of the day. Time is given so that the body may soften and the mind gently quieten. This time is also for the theme of the class to be introduced\, so you may wonder and question.\nAngela passionately believes that as much as yoga is a tool which helps us to know our bodies better\, it is also a tool to help us understand our mind\, our responses to life and yoga teaches us to live with awareness. \nAngela will skillfully guide you through practices to help you maintain and improve physical movement and function\, as well as teach you breathing practices alongside other ancient esoteric practices. Classes end with relaxation\, mainly Yoga Nidra (a relaxation technique which consists of sankalpa\, body awareness rotation\, breath awareness and visualisation). \nAngela’s classes are suitable for all levels of practitioner and every body as modifications will be given so that you can practice safely and effectively. \nBooking essential
URL:https://omyogaworks.co.uk/event/hatha-yoga-tues-eve-angela/2026-03-31/
LOCATION:Studio\, United Kingdom
CATEGORIES:Classes
ATTACH;FMTTYPE=image/jpeg:https://omyogaworks.co.uk/wp-content/uploads/2022/06/Om-Yoga-707-Copy-scaled.jpg
GEO:55.378051;-3.435973
END:VEVENT
BEGIN:VEVENT
DTSTART;TZID=Europe/London:20260331T194000
DTEND;TZID=Europe/London:20260331T210500
DTSTAMP:20260420T013355
CREATED:20240802T142940Z
LAST-MODIFIED:20260325T163853Z
UID:70642-1774986000-1774991100@omyogaworks.co.uk
SUMMARY:Somatic Yoga- Tues Eve Bec
DESCRIPTION:Embodied Somatic Yoga\nSomatic yoga focuses on the internal experience of yoga\, so we have the opportunity to let go of what we think we ‘should’ do\,  and tune into what our body yearns for – comfort\, ease\, effortless effort and balance. \nBring the mind and body into balance via accessible movement and breath awareness in this nurturing\, relaxing class. \nWe finish with rest and healing instruments.
URL:https://omyogaworks.co.uk/event/embodied-somatic-yoga/2026-03-31/
LOCATION:Studio\, United Kingdom
CATEGORIES:Classes
ATTACH;FMTTYPE=image/jpeg:https://omyogaworks.co.uk/wp-content/uploads/2022/10/embodied-hatha-pic-scaled.jpg
ORGANIZER;CN="Rebecca%20Stevens":MAILTO:Laya.yoga.healing@gmail.com
GEO:55.378051;-3.435973
END:VEVENT
END:VCALENDAR