BEGIN:VCALENDAR
VERSION:2.0
PRODID:-//Om Yoga Works - ECPv5.14.1//NONSGML v1.0//EN
CALSCALE:GREGORIAN
METHOD:PUBLISH
X-WR-CALNAME:Om Yoga Works
X-ORIGINAL-URL:https://omyogaworks.co.uk
X-WR-CALDESC:Events for Om Yoga Works
REFRESH-INTERVAL;VALUE=DURATION:PT1H
X-Robots-Tag:noindex
X-PUBLISHED-TTL:PT1H
BEGIN:VTIMEZONE
TZID:Europe/London
BEGIN:DAYLIGHT
TZOFFSETFROM:+0000
TZOFFSETTO:+0100
TZNAME:BST
DTSTART:20260329T010000
END:DAYLIGHT
BEGIN:STANDARD
TZOFFSETFROM:+0100
TZOFFSETTO:+0000
TZNAME:GMT
DTSTART:20261025T010000
END:STANDARD
END:VTIMEZONE
BEGIN:VEVENT
DTSTART;TZID=Europe/London:20260321T180000
DTEND;TZID=Europe/London:20260321T192500
DTSTAMP:20260420T031534
CREATED:20260321T121613Z
LAST-MODIFIED:20260325T163327Z
UID:72118-1774116000-1774121100@omyogaworks.co.uk
SUMMARY:Hatha Yoga - Tues Eve Angela
DESCRIPTION:Angela’s classes always begin with a little lie down. Time is offered for you to let go of the busyness of the day. Time is given so that the body may soften and the mind gently quieten. This time is also for the theme of the class to be introduced\, so you may wonder and question.\nAngela passionately believes that as much as yoga is a tool which helps us to know our bodies better\, it is also a tool to help us understand our mind\, our responses to life and yoga teaches us to live with awareness. \nAngela will skillfully guide you through practices to help you maintain and improve physical movement and function\, as well as teach you breathing practices alongside other ancient esoteric practices. Classes end with relaxation\, mainly Yoga Nidra (a relaxation technique which consists of sankalpa\, body awareness rotation\, breath awareness and visualisation). \nAngela’s classes are suitable for all levels of practitioner and every body as modifications will be given so that you can practice safely and effectively. \nBooking essential
URL:https://omyogaworks.co.uk/event/hatha-yoga-tues-eve-angela/
LOCATION:Studio\, United Kingdom
CATEGORIES:Classes
ATTACH;FMTTYPE=image/jpeg:https://omyogaworks.co.uk/wp-content/uploads/2022/06/Om-Yoga-707-Copy-scaled.jpg
GEO:55.378051;-3.435973
END:VEVENT
END:VCALENDAR