BEGIN:VCALENDAR
VERSION:2.0
PRODID:-//Om Yoga Works - ECPv5.14.1//NONSGML v1.0//EN
CALSCALE:GREGORIAN
METHOD:PUBLISH
X-WR-CALNAME:Om Yoga Works
X-ORIGINAL-URL:https://omyogaworks.co.uk
X-WR-CALDESC:Events for Om Yoga Works
REFRESH-INTERVAL;VALUE=DURATION:PT1H
X-Robots-Tag:noindex
X-PUBLISHED-TTL:PT1H
BEGIN:VTIMEZONE
TZID:Europe/London
BEGIN:DAYLIGHT
TZOFFSETFROM:+0000
TZOFFSETTO:+0100
TZNAME:BST
DTSTART:20260329T010000
END:DAYLIGHT
BEGIN:STANDARD
TZOFFSETFROM:+0100
TZOFFSETTO:+0000
TZNAME:GMT
DTSTART:20261025T010000
END:STANDARD
END:VTIMEZONE
BEGIN:VEVENT
DTSTART;TZID=Europe/London:20260317T100000
DTEND;TZID=Europe/London:20260317T113000
DTSTAMP:20260420T031154
CREATED:20260317T080725Z
LAST-MODIFIED:20260331T184432Z
UID:71807-1773741600-1773747000@omyogaworks.co.uk
SUMMARY:Hatha Yoga Mon am Eleanor
DESCRIPTION:My classes will begin with settling into the space and connecting to the breath. We will then begin to gently warm up the body\, move into mindful standing sequences and balance and then come back down to the mat for some floor poses\, pranayama\, meditation and deep relaxation. \nI believe yoga should bring a sense of joy\, be accessible to all and be both energising and relaxing.\nMy type of yoga is kind. It’s not about making shapes on a mat but about how you feel in body\, mind and spirit. It’s about holding space to let go of what may be weighing us down and connect to our inner stillness. It’s also about gratitude for what our bodies can do and the many wonderful things about the world around us. \nClasses will combine elements of nature\, ancient yogic practices and a little bit of fun. \nBooking Essential
URL:https://omyogaworks.co.uk/event/hatha-yoga-mon-am-eleanor/2026-03-17/
LOCATION:Studio\, United Kingdom
CATEGORIES:Classes
ATTACH;FMTTYPE=image/jpeg:https://omyogaworks.co.uk/wp-content/uploads/2022/11/Beginners-course.jpg
GEO:55.378051;-3.435973
END:VEVENT
END:VCALENDAR