BEGIN:VCALENDAR
VERSION:2.0
PRODID:-//Om Yoga Works - ECPv5.14.1//NONSGML v1.0//EN
CALSCALE:GREGORIAN
METHOD:PUBLISH
X-WR-CALNAME:Om Yoga Works
X-ORIGINAL-URL:https://omyogaworks.co.uk
X-WR-CALDESC:Events for Om Yoga Works
REFRESH-INTERVAL;VALUE=DURATION:PT1H
X-Robots-Tag:noindex
X-PUBLISHED-TTL:PT1H
BEGIN:VTIMEZONE
TZID:Europe/London
BEGIN:DAYLIGHT
TZOFFSETFROM:+0000
TZOFFSETTO:+0100
TZNAME:BST
DTSTART:20240331T010000
END:DAYLIGHT
BEGIN:STANDARD
TZOFFSETFROM:+0100
TZOFFSETTO:+0000
TZNAME:GMT
DTSTART:20241027T010000
END:STANDARD
END:VTIMEZONE
BEGIN:VEVENT
DTSTART;TZID=Europe/London:20240112T193000
DTEND;TZID=Europe/London:20240112T210000
DTSTAMP:20260422T020552
CREATED:20231229T121818Z
LAST-MODIFIED:20241129T133448Z
UID:63764-1705087800-1705093200@omyogaworks.co.uk
SUMMARY:Embodied Hatha Yoga - Friday Monthly
DESCRIPTION:Embodied Hatha\nThis class aims to bring the mind and body into balance via accessible postures and breath awareness. Suitable for all levels\, this class gently\naids healthy posture\, strength\, flexibility and balance with a strong focus on felt experience and enjoyment. We end with relaxation and healing sounds. \nBooking essential.
URL:https://omyogaworks.co.uk/event/embodied-hatha-yoga/2024-01-12/
LOCATION:Studio\, United Kingdom
CATEGORIES:Classes
ATTACH;FMTTYPE=image/jpeg:https://omyogaworks.co.uk/wp-content/uploads/2022/10/embodied-hatha-pic-scaled.jpg
ORGANIZER;CN="Rebecca%20Stevens":MAILTO:Laya.yoga.healing@gmail.com
GEO:55.378051;-3.435973
END:VEVENT
END:VCALENDAR